BEGIN:VCALENDAR
VERSION:2.0
PRODID:-//wp-events-plugin.com//7.2.3.1//EN
BEGIN:VEVENT
UID:3@mpittech.com
DTSTART;VALUE=DATE:20230206
DTEND;VALUE=DATE:20230301
DTSTAMP:20230209T015430Z
URL:https://mpittech.com/en/events-3/mpit-tech-training-feb-2023/
SUMMARY:MPIT Tech Training Feb 2023
DESCRIPTION:Earn Six Figures in IT with MPIT Tech Comprehensive Advance Tra
 ining.
ATTACH;FMTTYPE=image/jpeg:https://mpittech.com/en/wp-content/uploads/2023/
 02/MPIT-2023-scaled-1.jpg
CATEGORIES:Training
END:VEVENT
END:VCALENDAR