BEGIN:VCALENDAR
VERSION:2.0
PRODID:-//wp-events-plugin.com//7.2.3.1//EN
BEGIN:VEVENT
UID:1@mpittech.com
DTSTART;VALUE=DATE:20220625
DTEND;VALUE=DATE:20220626
DTSTAMP:20230209T015125Z
URL:https://mpittech.com/en/events-3/mpit-june-2022-training/
SUMMARY:MPIT June 2022 Training
DESCRIPTION:Microsoft SQL Server Database/Azure Administrator
ATTACH;FMTTYPE=image/jpeg:https://mpittech.com/en/wp-content/uploads/2023/
 02/Upcoming-class-18-training.jpeg
CATEGORIES:Training
END:VEVENT
END:VCALENDAR