BEGIN:VCALENDAR
VERSION:2.0
PRODID:-//wp-events-plugin.com//7.2.3.1//EN
BEGIN:VEVENT
UID:2@mpittech.com
DTSTART:20220819T000000Z
DTEND:20220819T000000Z
DTSTAMP:20230209T015151Z
URL:https://mpittech.com/en/events-3/mpit-annual-conference-2022/
SUMMARY:MPIT Annual Conference 2022
DESCRIPTION:Comprehensive Performance tuning in Microsoft SQL Server
ATTACH;FMTTYPE=image/jpeg:https://mpittech.com/en/wp-content/uploads/2023/
 02/2022-Conference.png
CATEGORIES:Conference
END:VEVENT
END:VCALENDAR