BEGIN:VCALENDAR
VERSION:2.0
PRODID:-//wp-events-plugin.com//7.2.3.1//EN
BEGIN:VEVENT
UID:5@mpittech.com
DTSTART:20240815T000000Z
DTEND:20240817T000000Z
DTSTAMP:20240523T194215Z
URL:https://mpittech.com/en/events-3/6th-annual-conference/
SUMMARY:6th Annual Conference
DESCRIPTION:
ATTACH;FMTTYPE=image/jpeg:https://mpittech.com/en/wp-content/uploads/2024/
 05/mpit6th-annual-conference-new1.jpg
CATEGORIES:Conference
END:VEVENT
END:VCALENDAR